BEGIN:VCALENDAR
VERSION:2.0
PRODID:-// - ECPv6.15.15//NONSGML v1.0//EN
CALSCALE:GREGORIAN
METHOD:PUBLISH
X-ORIGINAL-URL:https://events.condocontrol.com
X-WR-CALDESC:Events for 
REFRESH-INTERVAL;VALUE=DURATION:PT1H
X-Robots-Tag:noindex
X-PUBLISHED-TTL:PT1H
BEGIN:VTIMEZONE
TZID:America/Toronto
BEGIN:DAYLIGHT
TZOFFSETFROM:-0500
TZOFFSETTO:-0400
TZNAME:EDT
DTSTART:20220313T070000
END:DAYLIGHT
BEGIN:STANDARD
TZOFFSETFROM:-0400
TZOFFSETTO:-0500
TZNAME:EST
DTSTART:20221106T060000
END:STANDARD
BEGIN:DAYLIGHT
TZOFFSETFROM:-0500
TZOFFSETTO:-0400
TZNAME:EDT
DTSTART:20230312T070000
END:DAYLIGHT
BEGIN:STANDARD
TZOFFSETFROM:-0400
TZOFFSETTO:-0500
TZNAME:EST
DTSTART:20231105T060000
END:STANDARD
BEGIN:DAYLIGHT
TZOFFSETFROM:-0500
TZOFFSETTO:-0400
TZNAME:EDT
DTSTART:20240310T070000
END:DAYLIGHT
BEGIN:STANDARD
TZOFFSETFROM:-0400
TZOFFSETTO:-0500
TZNAME:EST
DTSTART:20241103T060000
END:STANDARD
END:VTIMEZONE
BEGIN:VEVENT
DTSTART;TZID=America/Toronto:20230928T110000
DTEND;TZID=America/Toronto:20230928T120000
DTSTAMP:20260422T035350
CREATED:20230705T195636Z
LAST-MODIFIED:20230907T170153Z
UID:12492-1695898800-1695902400@events.condocontrol.com
SUMMARY:Administrative Automation for HOAs
DESCRIPTION:Don’t miss our upcoming event\, the “Administrative Automation for HOAs” webinar. Join the Condo Control Customer Success team as they guide you through the intricacies of administrative automation for your HOA\, and discover how these features can be optimized to suit your community’s needs. \nDuring this webinar\, we will delve into the following topics: \n\nEnsuring compliance with exterior housing regulations\nImplementing customized forms\nTransitioning from paper-based forms and records to digital formats\nStreamlining manual processes through automation\nMaximizing access to services\n\nSave the date for September 28th at 11:00 AM EST\, and join us online via Zoom. To reserve your spot\, simply register using the provided link. Best of all\, this educational event is completely free of charge. We are committed to helping you build your community\, and offering valuable educational resources is just one of the many ways we support your endeavours. \nWhether you’re new to Condo Control or have been utilizing our software for years\, this webinar is a must-attend. The session will be recorded and shared with participants afterward\, and as always\, you’ll have the opportunity to ask questions throughout the presentation. \nWe look forward to your presence at the event! \nREGISTER NOW
URL:https://events.condocontrol.com/event/administrative-automation-for-hoas/
LOCATION:Zoom
ATTACH;FMTTYPE=image/png:https://events.condocontrol.com/wp-content/uploads/2023/07/3.png
END:VEVENT
END:VCALENDAR