BEGIN:VCALENDAR
VERSION:2.0
PRODID:-// - ECPv6.15.15//NONSGML v1.0//EN
CALSCALE:GREGORIAN
METHOD:PUBLISH
X-ORIGINAL-URL:https://events.condocontrol.com
X-WR-CALDESC:Events for 
REFRESH-INTERVAL;VALUE=DURATION:PT1H
X-Robots-Tag:noindex
X-PUBLISHED-TTL:PT1H
BEGIN:VTIMEZONE
TZID:America/Toronto
BEGIN:DAYLIGHT
TZOFFSETFROM:-0500
TZOFFSETTO:-0400
TZNAME:EDT
DTSTART:20220313T070000
END:DAYLIGHT
BEGIN:STANDARD
TZOFFSETFROM:-0400
TZOFFSETTO:-0500
TZNAME:EST
DTSTART:20221106T060000
END:STANDARD
BEGIN:DAYLIGHT
TZOFFSETFROM:-0500
TZOFFSETTO:-0400
TZNAME:EDT
DTSTART:20230312T070000
END:DAYLIGHT
BEGIN:STANDARD
TZOFFSETFROM:-0400
TZOFFSETTO:-0500
TZNAME:EST
DTSTART:20231105T060000
END:STANDARD
BEGIN:DAYLIGHT
TZOFFSETFROM:-0500
TZOFFSETTO:-0400
TZNAME:EDT
DTSTART:20240310T070000
END:DAYLIGHT
BEGIN:STANDARD
TZOFFSETFROM:-0400
TZOFFSETTO:-0500
TZNAME:EST
DTSTART:20241103T060000
END:STANDARD
END:VTIMEZONE
BEGIN:VEVENT
DTSTART;TZID=America/Toronto:20230823T110000
DTEND;TZID=America/Toronto:20230823T120000
DTSTAMP:20260422T052620
CREATED:20230705T194940Z
LAST-MODIFIED:20230713T135903Z
UID:12489-1692788400-1692792000@events.condocontrol.com
SUMMARY:Bill 91: What Does It Mean for You?
DESCRIPTION:Don’t miss our upcoming event\, the “Bill 91: What Does It Mean for You?” webinar. We are excited to bring you legal insights from our guest speaker\, David Thiel\, an esteemed Condominium Lawyer\, who will discuss the implications of this new legislation. Additionally\, our knowledgeable Customer Success Team will share their perspectives on how it will impact Condo communities. \nDuring this webinar\, we will cover the following key points: \n\nAllowing corporations to conduct virtual meetings without the need for bylaw modifications.\nEliminating the requirement for e-consent.\n\nThis legislation will go into effect on October 1st\, 2023\, and is applicable to Ontario residents only. \nMark your calendars for August 23rd at 11:00 AM EST and join us online via Zoom. To secure your spot\, simply register using the provided link. Best of all\, this educational event is completely free of charge. We are dedicated to helping you build your community and offering valuable educational resources is one way we fulfill that commitment. \nWhether you’re a new user or a long-time Condo Control customer\, this webinar is a must-attend. The session will be recorded and shared with participants afterward\, and you’ll have the opportunity to ask questions throughout the presentation. \nWe look forward to your presence at the event! \nREGISTER NOW \nThe CMRAO has approved this learning activity for 1.0 CPE credits.
URL:https://events.condocontrol.com/event/bill-91-what-does-it-mean-for-you/
LOCATION:Zoom
ATTACH;FMTTYPE=image/png:https://events.condocontrol.com/wp-content/uploads/2023/07/2.png
END:VEVENT
END:VCALENDAR