BEGIN:VCALENDAR
VERSION:2.0
PRODID:-// - ECPv6.15.15//NONSGML v1.0//EN
CALSCALE:GREGORIAN
METHOD:PUBLISH
X-ORIGINAL-URL:https://events.condocontrol.com
X-WR-CALDESC:Events for 
REFRESH-INTERVAL;VALUE=DURATION:PT1H
X-Robots-Tag:noindex
X-PUBLISHED-TTL:PT1H
BEGIN:VTIMEZONE
TZID:America/Toronto
BEGIN:DAYLIGHT
TZOFFSETFROM:-0500
TZOFFSETTO:-0400
TZNAME:EDT
DTSTART:20210314T070000
END:DAYLIGHT
BEGIN:STANDARD
TZOFFSETFROM:-0400
TZOFFSETTO:-0500
TZNAME:EST
DTSTART:20211107T060000
END:STANDARD
BEGIN:DAYLIGHT
TZOFFSETFROM:-0500
TZOFFSETTO:-0400
TZNAME:EDT
DTSTART:20220313T070000
END:DAYLIGHT
BEGIN:STANDARD
TZOFFSETFROM:-0400
TZOFFSETTO:-0500
TZNAME:EST
DTSTART:20221106T060000
END:STANDARD
BEGIN:DAYLIGHT
TZOFFSETFROM:-0500
TZOFFSETTO:-0400
TZNAME:EDT
DTSTART:20230312T070000
END:DAYLIGHT
BEGIN:STANDARD
TZOFFSETFROM:-0400
TZOFFSETTO:-0500
TZNAME:EST
DTSTART:20231105T060000
END:STANDARD
END:VTIMEZONE
BEGIN:VEVENT
DTSTART;TZID=America/Toronto:20221205T143000
DTEND;TZID=America/Toronto:20221205T143000
DTSTAMP:20260422T215230
CREATED:20221005T172305Z
LAST-MODIFIED:20221101T162634Z
UID:12452-1670250600-1670250600@events.condocontrol.com
SUMMARY:CC Live Training – Security & Concierge Module Part 1 (Setup + Valet Parking)
DESCRIPTION:“I like to ask questions” \n“I like learning tips and tricks” \n“I thrive in a demonstration environment” \n  \nIf any of the above statements resonate with you\, then the CC Live Training sessions are right up your alley! We know there is a lot to learn when it comes to Condo Control. Which is why each session will focus on a single module. That way\, we can do a deep dive into the features and settings of the module. \nYou won’t see any PowerPoint presentations in these sessions. They will be 100% live demonstration of the module via screenshare on Zoom. Also\, throughout the session you will have the opportunity to ask questions. Depending on the complexity of the featured module and number of questions\, some sessions will be short and sweet\, others will be longer. Rest assured\, your CC Trainer will make sure no question goes unanswered. \nFYI: The training is conducted from the perspective of a Property Manager with access to all group permissions. \nWe hold several of these sessions at different times throughout the year. The featured module for this session is Security & Concierge Module Part 1 (Setup + Valet Parking). \nSessions will be recorded\, and a replay link will be emailed to everyone who registered. So if you can’t make it and would like the recording\, make sure to register. \n \nPlease Note: \n\nSpace is limited. Register now to save your spot.\nTimes are listed in Eastern Standard Time (EST).\nTechnical questions that require in-depth troubleshooting are typically not suited for this format. Please click the “Help” button in the bottom-right-hand corner when logged into Condo Control for resources and to contact Condo Control Support.
URL:https://events.condocontrol.com/event/cc-live-training-sc-module-part-1-dec-2022/
LOCATION:Zoom
CATEGORIES:CC Live Training
ATTACH;FMTTYPE=image/png:https://events.condocontrol.com/wp-content/uploads/2022/10/Event-Page-Graphic_Security-Concierge_1000x645_PNG.png
END:VEVENT
END:VCALENDAR