BEGIN:VCALENDAR
VERSION:2.0
PRODID:-// - ECPv6.15.20//NONSGML v1.0//EN
CALSCALE:GREGORIAN
METHOD:PUBLISH
X-ORIGINAL-URL:https://events.condocontrol.com
X-WR-CALDESC:Events for 
REFRESH-INTERVAL;VALUE=DURATION:PT1H
X-Robots-Tag:noindex
X-PUBLISHED-TTL:PT1H
BEGIN:VTIMEZONE
TZID:America/Toronto
BEGIN:DAYLIGHT
TZOFFSETFROM:-0500
TZOFFSETTO:-0400
TZNAME:EDT
DTSTART:20210314T070000
END:DAYLIGHT
BEGIN:STANDARD
TZOFFSETFROM:-0400
TZOFFSETTO:-0500
TZNAME:EST
DTSTART:20211107T060000
END:STANDARD
BEGIN:DAYLIGHT
TZOFFSETFROM:-0500
TZOFFSETTO:-0400
TZNAME:EDT
DTSTART:20220313T070000
END:DAYLIGHT
BEGIN:STANDARD
TZOFFSETFROM:-0400
TZOFFSETTO:-0500
TZNAME:EST
DTSTART:20221106T060000
END:STANDARD
BEGIN:DAYLIGHT
TZOFFSETFROM:-0500
TZOFFSETTO:-0400
TZNAME:EDT
DTSTART:20230312T070000
END:DAYLIGHT
BEGIN:STANDARD
TZOFFSETFROM:-0400
TZOFFSETTO:-0500
TZNAME:EST
DTSTART:20231105T060000
END:STANDARD
END:VTIMEZONE
BEGIN:VEVENT
DTSTART;TZID=America/Toronto:20220503T150000
DTEND;TZID=America/Toronto:20220503T150000
DTSTAMP:20260424T071620
CREATED:20220208T214123Z
LAST-MODIFIED:20220420T203018Z
UID:11934-1651590000-1651590000@events.condocontrol.com
SUMMARY:Ask a CC Expert
DESCRIPTION:What is “Ask a CC Expert” all about? Well\, they are Open Office Hours sessions where current clients/users can meet with members of the Condo Control team to ask a question and get help. Questions are answered live on a first asked basis and can be submitted via the Zoom Q&A function once connected. Property Managers\, Administrators\, Board Members\, and Security/Front Desk Staff are all welcome to join any session. \nAsk a CC Expert is geared towards best practice\, strategy\, or “how-to” type questions. Things like… “What can I do to customize the look and feel of my workspace?” or “How can I eliminate the need for paper amenity booking forms and inspections?” or “Can I reduce back and forth communication by get all the information upfront when a resident is submitting a service request?”. \nIf you have other types of questions\, we will do our best to answer those as well. Keep in mind\, we spend about 5 mins max on each question and it’s 1 question per client/user. If you are new to Condo Control and looking for information on how other clients are using their workspace\, feel free to join a session and just listen. \nPlease Note: Technical questions that require in-depth troubleshooting are typically not suited for this format. Please visit http://support.condocontrolcentral.com for resources and to contact Condo Control Support. \n \nPlease Note: \n\nSPACE IS LIMITED to allow time for all questions.\nSessions are not recorded and will not be shared.\nTimes are listed in Eastern Standard Time (EST).
URL:https://events.condocontrol.com/event/ask-a-cc-expert-2/
LOCATION:Zoom
CATEGORIES:Ask a CC Expert
ATTACH;FMTTYPE=image/png:https://events.condocontrol.com/wp-content/uploads/2022/02/Presenter-Graphic_1000x645_PNG.png
END:VEVENT
BEGIN:VEVENT
DTSTART;TZID=America/Toronto:20220509T150000
DTEND;TZID=America/Toronto:20220509T150000
DTSTAMP:20260424T071620
CREATED:20220321T211648Z
LAST-MODIFIED:20220321T211648Z
UID:12289-1652108400-1652108400@events.condocontrol.com
SUMMARY:CC Live Training – Store Module
DESCRIPTION:“I like to ask questions” \n“I like learning tips and tricks” \n“I thrive in a demonstration environment” \n“I feel a bit overwhelmed when learning software” \n“I’m a technological whiz who is always excited to explore new methods” \n  \nIf any of the above statements resonate with you\, then the CC Live Training sessions are right up your alley! We know there is a lot to learn when it comes to Condo Control. Which is why each session will focus on a single module. That way\, we can do a deep dive into the features and settings of the module. \nYou won’t see any PowerPoint slides in these sessions. They will be 100% live demonstration of the module via screenshare on Zoom. Also\, throughout the session you will have the opportunity to ask questions. Depending on the complexity of the featured module and number of questions\, some sessions will be short and sweet\, others will be longer. Rest assured\, your CC Trainer will make sure no question goes unanswered. \nFYI: The training is conducted from the perspective of a Property Manager with access to all group permissions. \nWe hold several of these sessions at different times throughout the year. The featured module for this session is Store Module. \nSessions will be recorded\, and a replay link will be emailed to everyone who registered. \n \nPlease Note: \n\nSpace is limited. Register now to save your spot.\nTimes are listed in Eastern Standard Time (EST).\nTechnical questions that require in-depth troubleshooting are typically not suited for this format. Visit http://support.condocontrolcentral.com for resources and to contact Condo Control Support
URL:https://events.condocontrol.com/event/cc-live-training-store-module/
LOCATION:Zoom
CATEGORIES:CC Live Training
ATTACH;FMTTYPE=image/png:https://events.condocontrol.com/wp-content/uploads/2022/03/Event-Page-Graphic_Store_1000x645_PNG.png
END:VEVENT
BEGIN:VEVENT
DTSTART;TZID=America/Toronto:20220511T110000
DTEND;TZID=America/Toronto:20220511T110000
DTSTAMP:20260424T071620
CREATED:20220420T152543Z
LAST-MODIFIED:20220420T155008Z
UID:12316-1652266800-1652266800@events.condocontrol.com
SUMMARY:CC Webinar: Top 20 Condo Control Tips & Tricks
DESCRIPTION:Join us for the Top 20 Condo Control Tips & Tricks webinar where we will countdown the top tips and tricks as voted by the Condo Control Customer Success Team. \nThe word “tip” can have many meanings. It could mean; overbalance or cause to overbalance so as to fall or turn over. But for this webinar\, when we say “tip”\, we mean a small but useful piece of practical advice. And “trick”? Who doesn’t like a good trick or two? Even if you feel like you’re a Condo Control Pro\, we are willing to bet that we have a trick or two up our sleeves that you did not know. \nSo\, whether you are new to Condo Control or have been using our services for many years\, you are not going to want to miss this webinar. \nTips & Tricks Sneak Peak:  \n\nGo paper free ** ***** Amenity ************\nSave money and ***** by using ****** *******\nBlock Unwanted ******* ******** with *************\n\nYou’ll also have a chance to ask questions and if you want\, share your own Condo Control Tips & Tricks. \n \nSpace is limited\, so please register now to save your spot. \nWe are looking forward to meeting with you!
URL:https://events.condocontrol.com/event/cc-webinar-top-20-condo-control-tips-tricks/
LOCATION:Zoom
CATEGORIES:Webinars
ATTACH;FMTTYPE=image/png:https://events.condocontrol.com/wp-content/uploads/2022/04/Top-20-Tips-Tricks-_Events-Page-Graphic_1000x645_PNG.png
END:VEVENT
BEGIN:VEVENT
DTSTART;TZID=America/Toronto:20220512T103000
DTEND;TZID=America/Toronto:20220512T103000
DTSTAMP:20260424T071620
CREATED:20220223T174723Z
LAST-MODIFIED:20220420T203048Z
UID:12244-1652351400-1652351400@events.condocontrol.com
SUMMARY:Ask a CC Expert
DESCRIPTION:What is “Ask a CC Expert” all about? Well\, they are Open Office Hours sessions where current clients/users can meet with members of the Condo Control team to ask a question and get help. Questions are answered live on a first asked basis and can be submitted via the Zoom Q&A function once connected. Property Managers\, Administrators\, Board Members\, and Security/Front Desk Staff are all welcome to join any session. \nAsk a CC Expert is geared towards best practice\, strategy\, or “how-to” type questions. Things like… “What can I do to customize the look and feel of my workspace?” or “How can I eliminate the need for paper amenity booking forms and inspections?” or “Can I reduce back and forth communication by get all the information upfront when a resident is submitting a service request?”. \nIf you have other types of questions\, we will do our best to answer those as well. Keep in mind\, we spend about 5 mins max on each question and it’s 1 question per client/user. If you are new to Condo Control and looking for information on how other clients are using their workspace\, feel free to join a session and just listen. \nPlease Note: Technical questions that require in-depth troubleshooting are typically not suited for this format. Visit http://support.condocontrolcentral.com for resources and to contact Condo Control Support. \n \nPlease Note: \n\nSPACE IS LIMITED to allow time for all questions.\nSessions are not recorded and will not be shared.\nTimes are listed in Eastern Standard Time (EST).
URL:https://events.condocontrol.com/event/ask-a-cc-expert-5/
LOCATION:Zoom
CATEGORIES:Ask a CC Expert
ATTACH;FMTTYPE=image/png:https://events.condocontrol.com/wp-content/uploads/2022/02/Presenter-Graphic_1000x645_PNG.png
END:VEVENT
BEGIN:VEVENT
DTSTART;TZID=America/Toronto:20220519T110000
DTEND;TZID=America/Toronto:20220519T110000
DTSTAMP:20260424T071620
CREATED:20220321T211856Z
LAST-MODIFIED:20220321T211856Z
UID:12292-1652958000-1652958000@events.condocontrol.com
SUMMARY:CC Live Training – Unit File Module
DESCRIPTION:“I like to ask questions” \n“I like learning tips and tricks” \n“I thrive in a demonstration environment” \n“I feel a bit overwhelmed when learning software” \n“I’m a technological whiz who is always excited to explore new methods” \n  \nIf any of the above statements resonate with you\, then the CC Live Training sessions are right up your alley! We know there is a lot to learn when it comes to Condo Control. Which is why each session will focus on a single module. That way\, we can do a deep dive into the features and settings of the module. \nYou won’t see any PowerPoint slides in these sessions. They will be 100% live demonstration of the module via screenshare on Zoom. Also\, throughout the session you will have the opportunity to ask questions. Depending on the complexity of the featured module and number of questions\, some sessions will be short and sweet\, others will be longer. Rest assured\, your CC Trainer will make sure no question goes unanswered. \nFYI: The training is conducted from the perspective of a Property Manager with access to all group permissions. \nWe hold several of these sessions at different times throughout the year. The featured module for this session is Unit File Module. \nSessions will be recorded\, and a replay link will be emailed to everyone who registered. \n \nPlease Note: \n\nSpace is limited. Register now to save your spot.\nTimes are listed in Eastern Standard Time (EST).\nTechnical questions that require in-depth troubleshooting are typically not suited for this format. Visit http://support.condocontrolcentral.com for resources and to contact Condo Control Support
URL:https://events.condocontrol.com/event/cc-live-training-unit-file-module/
LOCATION:Zoom
CATEGORIES:CC Live Training
ATTACH;FMTTYPE=image/png:https://events.condocontrol.com/wp-content/uploads/2022/03/Event-Page-Graphic_UnitFile_1000x645_PNG.png
END:VEVENT
BEGIN:VEVENT
DTSTART;TZID=America/Toronto:20220525T130000
DTEND;TZID=America/Toronto:20220525T130000
DTSTAMP:20260424T071620
CREATED:20220223T175018Z
LAST-MODIFIED:20220525T132026Z
UID:12246-1653483600-1653483600@events.condocontrol.com
SUMMARY:Ask a CC Expert
DESCRIPTION:What is “Ask a CC Expert” all about? Well\, they are Open Office Hours sessions held every Wednesday where current clients/users can meet with members of the Condo Control team to ask a question and get help. Questions are answered live on a first asked basis and can be submitted via the Zoom Q&A function once connected. Property Managers\, Administrators\, Board Members\, and Security/Front Desk Staff are all welcome to join any session. \nAsk a CC Expert is geared towards best practice\, strategy\, or “how-to” type questions. Things like… “What can I do to customize the look and feel of my workspace?” or “How can I eliminate the need for paper amenity booking forms and inspections?” or “Can I reduce back and forth communication by get all the information upfront when a resident is submitting a service request?”. \nIf you have other types of questions\, we will do our best to answer those as well. Keep in mind\, we spend about 5 mins max on each question and it’s 1 question per client/user. If you are new to Condo Control and looking for information on how other clients are using their workspace\, feel free to join a session and just listen. \nPlease Note: Technical questions that require in-depth troubleshooting are typically not suited for this format. Visit http://support.condocontrolcentral.com for resources and to contact Condo Control Support. \n \nPlease Note: \n\nSPACE IS LIMITED to allow time for all questions.\nSessions are not recorded and will not be shared.\nTimes are listed in Eastern Standard Time (EST).
URL:https://events.condocontrol.com/event/ask-a-cc-expert-may-25-2022/
LOCATION:Zoom
CATEGORIES:Ask a CC Expert
ATTACH;FMTTYPE=image/png:https://events.condocontrol.com/wp-content/uploads/2022/02/Presenter-Graphic_1000x645_PNG.png
END:VEVENT
BEGIN:VEVENT
DTSTART;TZID=America/Toronto:20220531T130000
DTEND;TZID=America/Toronto:20220531T130000
DTSTAMP:20260424T071620
CREATED:20220321T212034Z
LAST-MODIFIED:20220321T212034Z
UID:12295-1654002000-1654002000@events.condocontrol.com
SUMMARY:CC Live Training – Discussion Forum Module
DESCRIPTION:“I like to ask questions” \n“I like learning tips and tricks” \n“I thrive in a demonstration environment” \n“I feel a bit overwhelmed when learning software” \n“I’m a technological whiz who is always excited to explore new methods” \n  \nIf any of the above statements resonate with you\, then the CC Live Training sessions are right up your alley! We know there is a lot to learn when it comes to Condo Control. Which is why each session will focus on a single module. That way\, we can do a deep dive into the features and settings of the module. \nYou won’t see any PowerPoint slides in these sessions. They will be 100% live demonstration of the module via screenshare on Zoom. Also\, throughout the session you will have the opportunity to ask questions. Depending on the complexity of the featured module and number of questions\, some sessions will be short and sweet\, others will be longer. Rest assured\, your CC Trainer will make sure no question goes unanswered. \nFYI: The training is conducted from the perspective of a Property Manager with access to all group permissions. \nWe hold several of these sessions at different times throughout the year. The featured module for this session is Discussion Forum Module. \nSessions will be recorded\, and a replay link will be emailed to everyone who registered. \n \nPlease Note: \n\nSpace is limited. Register now to save your spot.\nTimes are listed in Eastern Standard Time (EST).\nTechnical questions that require in-depth troubleshooting are typically not suited for this format. Visit http://support.condocontrolcentral.com for resources and to contact Condo Control Support
URL:https://events.condocontrol.com/event/cc-live-training-discussion-forum-module/
LOCATION:Zoom
CATEGORIES:CC Live Training
ATTACH;FMTTYPE=image/png:https://events.condocontrol.com/wp-content/uploads/2022/03/Event-Page-Graphic_DiscussionForum_1000x645_PNG.png
END:VEVENT
END:VCALENDAR