BEGIN:VCALENDAR
VERSION:2.0
PRODID:-// - ECPv6.15.20//NONSGML v1.0//EN
CALSCALE:GREGORIAN
METHOD:PUBLISH
X-ORIGINAL-URL:https://events.condocontrol.com
X-WR-CALDESC:Events for 
REFRESH-INTERVAL;VALUE=DURATION:PT1H
X-Robots-Tag:noindex
X-PUBLISHED-TTL:PT1H
BEGIN:VTIMEZONE
TZID:America/Toronto
BEGIN:DAYLIGHT
TZOFFSETFROM:-0500
TZOFFSETTO:-0400
TZNAME:EDT
DTSTART:20210314T070000
END:DAYLIGHT
BEGIN:STANDARD
TZOFFSETFROM:-0400
TZOFFSETTO:-0500
TZNAME:EST
DTSTART:20211107T060000
END:STANDARD
BEGIN:DAYLIGHT
TZOFFSETFROM:-0500
TZOFFSETTO:-0400
TZNAME:EDT
DTSTART:20220313T070000
END:DAYLIGHT
BEGIN:STANDARD
TZOFFSETFROM:-0400
TZOFFSETTO:-0500
TZNAME:EST
DTSTART:20221106T060000
END:STANDARD
BEGIN:DAYLIGHT
TZOFFSETFROM:-0500
TZOFFSETTO:-0400
TZNAME:EDT
DTSTART:20230312T070000
END:DAYLIGHT
BEGIN:STANDARD
TZOFFSETFROM:-0400
TZOFFSETTO:-0500
TZNAME:EST
DTSTART:20231105T060000
END:STANDARD
END:VTIMEZONE
BEGIN:VEVENT
DTSTART;TZID=America/Toronto:20221102T110000
DTEND;TZID=America/Toronto:20221102T110000
DTSTAMP:20260425T193640
CREATED:20221004T191700Z
LAST-MODIFIED:20221004T192048Z
UID:12435-1667386800-1667386800@events.condocontrol.com
SUMMARY:CC Webinar: Getting Residents Onboard
DESCRIPTION:Have you often wondered how to get more of your residents using Condo Control? Well\, we have lots of words of wisdom to share when it comes to that topic. \nThis webinar will be a panel style format where David Guthrie (Customer Success Team at Condo Control) will moderate a discussion with Christine Ponce and Istahil Hashi who are both former Property Managers and are now Customer Success Managers at Condo Control. With experience like that\, you will definitely want to tune in to hear what they have to say! \nWe will go over the 5-step process that will get your residents using Condo Control \n\nSTEP 1: Property Manager / Administrator buy-in\nSTEP 2: Getting other staff onboard\nSTEP 3: Promote Condo Control to residents\nSTEP 4: Let residents help you\nSTEP 5: Stay the course\nBONUS: Common questions answered\n\nJoin us for the Getting Residents Onboard webinar on Novembers 2nd. Whether you are new to Condo Control or have been using our software for many years\, you are not going to want to miss this webinar. \nAs always\, you’ll have a chance to ask questions throughout the webinar. \n  \nSpace is limited\, so please register now to save your spot. \nWe are looking forward to meeting with you!
URL:https://events.condocontrol.com/event/cc-webinar-getting-residents-onboard-nov-2022/
LOCATION:Zoom
CATEGORIES:Webinars
ATTACH;FMTTYPE=image/png:https://events.condocontrol.com/wp-content/uploads/2022/10/Events-Page-Graphic_GettingResidentsOnboard_1000x645_PNG.png
END:VEVENT
END:VCALENDAR