BEGIN:VCALENDAR
VERSION:2.0
PRODID:-// - ECPv6.15.15//NONSGML v1.0//EN
CALSCALE:GREGORIAN
METHOD:PUBLISH
X-ORIGINAL-URL:https://events.condocontrol.com
X-WR-CALDESC:Events for 
REFRESH-INTERVAL;VALUE=DURATION:PT1H
X-Robots-Tag:noindex
X-PUBLISHED-TTL:PT1H
BEGIN:VTIMEZONE
TZID:UTC
BEGIN:STANDARD
TZOFFSETFROM:+0000
TZOFFSETTO:+0000
TZNAME:UTC
DTSTART:20230101T000000
END:STANDARD
END:VTIMEZONE
BEGIN:VEVENT
DTSTART;TZID=UTC:20240130T110000
DTEND;TZID=UTC:20240130T110000
DTSTAMP:20260421T213417
CREATED:20240104T222422Z
LAST-MODIFIED:20240125T194012Z
UID:12526-1706612400-1706612400@events.condocontrol.com
SUMMARY:Engaging Residents: Community Building with Condo Control
DESCRIPTION:At Condo Control\, we’re committed to helping you create a thriving and engaged community\, which is why we’d like to invite you to our upcoming webinar: “Engaging Residents – Community Building with Condo Control”.  \nWe’re excited to share valuable insights and actionable strategies that foster a genuine sense of community among residents\, using the community engagement features of Condo Control.  \nDuring this webinar\, we’ll delve into the following topics:  \n\nImportance of Community Engagement \nAn overview of Condo Control’s Community Engagement Features \nEffective Communication and Annual Condo Surveys \nBuilding Community Through Events and Discussion Forums \n\nSave the date for this FREE event on January 30th\, 2024 at 11:00 AM EST and join us online via Zoom. To reserve your spot\, simply register using the provided link.  \nWhether you’re new to Condo Control or have been utilizing our software for years\, this webinar is a must-attend. The session will be recorded and shared with participants afterwards\, and you’ll have the opportunity to ask questions throughout the presentation.  \n        The CMRAO has approved this learning activity for 0.50 CPE credits. \nWe look forward to your participation in the webinar! 
URL:https://events.condocontrol.com/event/engaging-residents-community-building-with-condo-control/
LOCATION:Zoom
ATTACH;FMTTYPE=image/png:https://events.condocontrol.com/wp-content/uploads/2024/01/Jan2024-Engaging-Residents-Webinar.png
END:VEVENT
END:VCALENDAR