BEGIN:VCALENDAR
VERSION:2.0
PRODID:-// - ECPv6.15.15//NONSGML v1.0//EN
CALSCALE:GREGORIAN
METHOD:PUBLISH
X-ORIGINAL-URL:https://events.condocontrol.com
X-WR-CALDESC:Events for 
REFRESH-INTERVAL;VALUE=DURATION:PT1H
X-Robots-Tag:noindex
X-PUBLISHED-TTL:PT1H
BEGIN:VTIMEZONE
TZID:America/Toronto
BEGIN:DAYLIGHT
TZOFFSETFROM:-0500
TZOFFSETTO:-0400
TZNAME:EDT
DTSTART:20220313T070000
END:DAYLIGHT
BEGIN:STANDARD
TZOFFSETFROM:-0400
TZOFFSETTO:-0500
TZNAME:EST
DTSTART:20221106T060000
END:STANDARD
BEGIN:DAYLIGHT
TZOFFSETFROM:-0500
TZOFFSETTO:-0400
TZNAME:EDT
DTSTART:20230312T070000
END:DAYLIGHT
BEGIN:STANDARD
TZOFFSETFROM:-0400
TZOFFSETTO:-0500
TZNAME:EST
DTSTART:20231105T060000
END:STANDARD
BEGIN:DAYLIGHT
TZOFFSETFROM:-0500
TZOFFSETTO:-0400
TZNAME:EDT
DTSTART:20240310T070000
END:DAYLIGHT
BEGIN:STANDARD
TZOFFSETFROM:-0400
TZOFFSETTO:-0500
TZNAME:EST
DTSTART:20241103T060000
END:STANDARD
END:VTIMEZONE
BEGIN:VEVENT
DTSTART;TZID=America/Toronto:20231025T150000
DTEND;TZID=America/Toronto:20231025T150000
DTSTAMP:20260422T021004
CREATED:20231006T212252Z
LAST-MODIFIED:20231006T212350Z
UID:12501-1698246000-1698246000@events.condocontrol.com
SUMMARY:October Onboarding Post Launch Webinar
DESCRIPTION:Congratulations on Launching your Workspace to the Community! \nAs the next step in our Condo Control journey\, we cordially invite you to join our Onboarding Post Launch Webinar. One of our Onboarding Specialists will walk you through the key modules one more time and answer any of your post launch questions live during the webinar. \n  \nSpace is limited\, so please register now to save your spot. \nWe are looking forward to meeting with you!
URL:https://events.condocontrol.com/event/onboarding-post-launch-webinar-oct2023/
LOCATION:Zoom
CATEGORIES:Onboarding Post Launch
ATTACH;FMTTYPE=image/jpeg:https://events.condocontrol.com/wp-content/uploads/2023/09/Events-Page-Banner.jpg
END:VEVENT
END:VCALENDAR