BEGIN:VCALENDAR
VERSION:2.0
PRODID:-// - ECPv6.15.15//NONSGML v1.0//EN
CALSCALE:GREGORIAN
METHOD:PUBLISH
X-ORIGINAL-URL:https://events.condocontrol.com
X-WR-CALDESC:Events for 
REFRESH-INTERVAL;VALUE=DURATION:PT1H
X-Robots-Tag:noindex
X-PUBLISHED-TTL:PT1H
BEGIN:VTIMEZONE
TZID:America/Toronto
BEGIN:DAYLIGHT
TZOFFSETFROM:-0500
TZOFFSETTO:-0400
TZNAME:EDT
DTSTART:20220313T070000
END:DAYLIGHT
BEGIN:STANDARD
TZOFFSETFROM:-0400
TZOFFSETTO:-0500
TZNAME:EST
DTSTART:20221106T060000
END:STANDARD
BEGIN:DAYLIGHT
TZOFFSETFROM:-0500
TZOFFSETTO:-0400
TZNAME:EDT
DTSTART:20230312T070000
END:DAYLIGHT
BEGIN:STANDARD
TZOFFSETFROM:-0400
TZOFFSETTO:-0500
TZNAME:EST
DTSTART:20231105T060000
END:STANDARD
BEGIN:DAYLIGHT
TZOFFSETFROM:-0500
TZOFFSETTO:-0400
TZNAME:EDT
DTSTART:20240310T070000
END:DAYLIGHT
BEGIN:STANDARD
TZOFFSETFROM:-0400
TZOFFSETTO:-0500
TZNAME:EST
DTSTART:20241103T060000
END:STANDARD
END:VTIMEZONE
BEGIN:VEVENT
DTSTART;TZID=America/Toronto:20230726T110000
DTEND;TZID=America/Toronto:20230726T120000
DTSTAMP:20260422T083005
CREATED:20230705T194447Z
LAST-MODIFIED:20230705T195825Z
UID:12485-1690369200-1690372800@events.condocontrol.com
SUMMARY:Security: Importance & Best Practices
DESCRIPTION:Don’t miss our upcoming event\, the “Security: Importance & Best Practices” webinar\, hosted by the Condo Control Customer Success team. Join us as we dive into the crucial aspects of our security portal and explore how you can optimize its features to enhance your community’s safety. \nDuring this webinar\, we will cover the following topics: \n\nPackage tracking\nDetailed feature breakdown\nEfficient incident reporting\nManaging visitor parking\nVisitor logging\nEffective patrols\nGatehouse management\n\nMark your calendars for July 26th at 11:00 AM EST\, and join us online via Zoom. To secure your spot\, simply register using the provided link. Best of all\, this educational event is completely free of charge. We are committed to supporting your community-building efforts by offering valuable resources. \nWhether you’re a new Condo Control user or a long-time customer\, this webinar is a must-attend. The session will be recorded and shared with participants afterward\, and you’ll have the opportunity to ask questions throughout the presentation. \nWe look forward to your presence at the event! \nREGISTER NOW
URL:https://events.condocontrol.com/event/security-importance-best-practices/
LOCATION:Zoom
ATTACH;FMTTYPE=image/png:https://events.condocontrol.com/wp-content/uploads/2023/07/1.png
END:VEVENT
END:VCALENDAR