BEGIN:VCALENDAR
VERSION:2.0
PRODID:-// - ECPv6.15.20//NONSGML v1.0//EN
CALSCALE:GREGORIAN
METHOD:PUBLISH
X-ORIGINAL-URL:https://events.condocontrol.com
X-WR-CALDESC:Events for 
REFRESH-INTERVAL;VALUE=DURATION:PT1H
X-Robots-Tag:noindex
X-PUBLISHED-TTL:PT1H
BEGIN:VTIMEZONE
TZID:America/Toronto
BEGIN:DAYLIGHT
TZOFFSETFROM:-0500
TZOFFSETTO:-0400
TZNAME:EDT
DTSTART:20210314T070000
END:DAYLIGHT
BEGIN:STANDARD
TZOFFSETFROM:-0400
TZOFFSETTO:-0500
TZNAME:EST
DTSTART:20211107T060000
END:STANDARD
BEGIN:DAYLIGHT
TZOFFSETFROM:-0500
TZOFFSETTO:-0400
TZNAME:EDT
DTSTART:20220313T070000
END:DAYLIGHT
BEGIN:STANDARD
TZOFFSETFROM:-0400
TZOFFSETTO:-0500
TZNAME:EST
DTSTART:20221106T060000
END:STANDARD
BEGIN:DAYLIGHT
TZOFFSETFROM:-0500
TZOFFSETTO:-0400
TZNAME:EDT
DTSTART:20230312T070000
END:DAYLIGHT
BEGIN:STANDARD
TZOFFSETFROM:-0400
TZOFFSETTO:-0500
TZNAME:EST
DTSTART:20231105T060000
END:STANDARD
END:VTIMEZONE
BEGIN:VEVENT
DTSTART;TZID=America/Toronto:20220425T113000
DTEND;TZID=America/Toronto:20220425T113000
DTSTAMP:20260424T071753
CREATED:20220223T182219Z
LAST-MODIFIED:20220311T142255Z
UID:12251-1650886200-1650886200@events.condocontrol.com
SUMMARY:Ask a CC Expert for Property Managers
DESCRIPTION:What is “Ask a CC Expert for Property Managers” all about? Well\, they are Open Office Hours sessions where current clients/users who are Property Managers can meet with members of the Condo Control team to ask a question and get help. Questions are answered live on a first asked basis and can be submitted via the Zoom Q&A function once connected. We hold several of these sessions at different times throughout the year. \nAsk a CC Expert is geared towards best practice\, strategy\, or “how-to” type questions. Things like… “How can I add my Superintendent to Condo Control but with limited access?” or “I need to provide a report to the Board on Service Request activity\, how can I do that?” or “What are the best practices for the Unit File / resident data?”. \nIf you have other types of questions\, we will do our best to answer those as well. Keep in mind\, we spend about 5 mins max on each question and it’s 1 question per client/user. If you are new to Condo Control and looking for information on how other clients are using their workspace\, feel free to join a session and just listen. \nPlease Note: Technical questions that require in-depth troubleshooting are typically not suited for this format. Visit http://support.condocontrolcentral.com for resources and to contact Condo Control Support. \n \nPlease Note: \n\nSPACE IS LIMITED to allow time for all questions.\nSessions are not recorded and will not be shared.\nTimes are listed in Eastern Standard Time (EST).
URL:https://events.condocontrol.com/event/ask-a-cc-expert-for-property-managers/
LOCATION:Zoom
CATEGORIES:Ask a CC Expert
ATTACH;FMTTYPE=image/png:https://events.condocontrol.com/wp-content/uploads/2022/02/Presenter-Graphic_PM_1000x645_PNG.png
END:VEVENT
END:VCALENDAR